BEGIN:VCALENDAR
VERSION:2.0
PRODID:-//eventon.com NONSGML v1.0//EN
BEGIN:VEVENT
UID:69e6d127ebce8
DTSTAMP:20260421T032143
DTSTART:20260421T141500Z
DTEND:20260421T151500Z
LOCATION:KFZ Marburg\,  Biegenstr. 13
SUMMARY:Bilderbuchkino
DESCRIPTION: Grimm und Möhrchen und die Spielplatzpiraten. Ein Bilderbuch-Abenteuer mit Frühlingslaune ab 4 Jahren | vorgestellt von Antje Tietz.
END:VEVENT
END:VCALENDAR