BEGIN:VCALENDAR
VERSION:2.0
PRODID:-//eventon.com NONSGML v1.0//EN
BEGIN:VEVENT
UID:69ecb964494af
DTSTAMP:20260425T145356
DTSTART:20260425T080000Z
DTEND:20260425T150000Z
LOCATION:Rathaus Berliner Platz 1
SUMMARY:Fachtag 'Feministisches Rathaus'
DESCRIPTION: Heute feiern wir 40 Jahre Gleichstellungsarbeit in Marburg. Es erwartet Sie ein abwechslungsreicher Fachtag mit Workshops\,  Filmvorführung\,  Gesprächsrunden\,  Kreativangeboten.
END:VEVENT
END:VCALENDAR