BEGIN:VCALENDAR
VERSION:2.0
PRODID:-//eventon.com NONSGML v1.0//EN
BEGIN:VEVENT
UID:69e97d869d61f
DTSTAMP:20260423T040142
DTSTART:20260423T130000Z
DTEND:20260423T160000Z
LOCATION:MaZe Marburg Marburg\,  Biegenstr. 17
SUMMARY:ReparierBar
DESCRIPTION: Hier wird gemeinsam geschraubt \,  gelötet und geflickt. Wir reparieren gemeinsam mit Euch Eure Sachen.
END:VEVENT
END:VCALENDAR