BEGIN:VCALENDAR
VERSION:2.0
PRODID:-//eventon.com NONSGML v1.0//EN
BEGIN:VEVENT
UID:69ecb98673298
DTSTAMP:20260425T145430
DTSTART:20260425T060000Z
DTEND:20260425T120000Z
LOCATION:Waggonhalle Rudolf-Bultmann-Str. 2a
SUMMARY:Flohmarkt
DESCRIPTION: Flohmarkt auf dem Gelände der Waggonhalle.
END:VEVENT
END:VCALENDAR