BEGIN:VCALENDAR
VERSION:2.0
PRODID:-//eventon.com NONSGML v1.0//EN
BEGIN:VEVENT
UID:69e6c144213ce
DTSTAMP:20260421T021356
DTSTART:20260420T170000Z
DTEND:20260420T210000Z
LOCATION:Waggonhalle Rudolf-Bultmann-Str. 2a
SUMMARY:Tanzend in die Woche
DESCRIPTION: Alle sind willkommen\,  keine Altersbegrenzung\,  mit viel Spaß und tanzbaren Beats für jeden Geschmack.
END:VEVENT
END:VCALENDAR