BEGIN:VCALENDAR
VERSION:2.0
PRODID:-//eventon.com NONSGML v1.0//EN
BEGIN:VEVENT
UID:69e58fd708a5d
DTSTAMP:20260420T043047
DTSTART:20260420T110000Z
DTEND:20260420T170000Z
LOCATION:Ehemaliger Edeka-Markt Marburg\,  Rosenstraße  2
SUMMARY:Kunsttage Marburg-Biedenkopf
DESCRIPTION: Unter dem Motto „Reichweite“ finden im April 2026 zum 13. Mal die Kunsttage Marburg-Biedenkopf in Kooperation mit der Universitätsstadt Marburg statt.
END:VEVENT
END:VCALENDAR