BEGIN:VCALENDAR
VERSION:2.0
PRODID:-//eventon.com NONSGML v1.0//EN
BEGIN:VEVENT
UID:69ebd8ecb9b50
DTSTAMP:20260424T225612
DTSTART:20260424T070000Z
DTEND:20260424T140000Z
LOCATION:Jokus Gießen\,  Ostanlage 25a
SUMMARY:Fortbildung „Mit Gewalt in der Jugendarbeit umgehen“
DESCRIPTION: Deeskalationstraining: Grundlagen. Anmeldungen über www.jbw-giessen.de.
END:VEVENT
END:VCALENDAR