BEGIN:VCALENDAR
VERSION:2.0
PRODID:-//eventon.com NONSGML v1.0//EN
BEGIN:VEVENT
UID:69e81acdb2ce3
DTSTAMP:20260422T024813
DTSTART:20260422T160000Z
DTEND:20260422T160000Z
LOCATION:Franzis Wetzlar\,  Franziskanerstr. 3-6
SUMMARY:Cafe Vinyl Vol.3 Biergarten
DESCRIPTION: Cafe Vinyl Vol.3 Biergarten
END:VEVENT
END:VCALENDAR