BEGIN:VCALENDAR
VERSION:2.0
PRODID:-//eventon.com NONSGML v1.0//EN
BEGIN:VEVENT
UID:69e58f6cbaf64
DTSTAMP:20260420T042900
DTSTART:20260420T160000Z
DTEND:20260420T200000Z
LOCATION:Franzis Wetzlar\,  Franziskanerstr. 3-6
SUMMARY:After Work and All Together
DESCRIPTION: Angestoßen von Menschen mit Behinderung\,  die sich eine Disco wünschten\,  die sie selbst mitgestalten können\,  heißt es „after work & all together“ im Franzis. Immer am zweiten Montag des Monats. Die Discoveranstaltung findet bereits ab 18:00 Uhr statt\,  dann allerdings bis 22:00 Uhr\,  ermöglicht somit auch Berufstätigen unter der Woche[..]
END:VEVENT
END:VCALENDAR