BEGIN:VCALENDAR
VERSION:2.0
PRODID:-//eventon.com NONSGML v1.0//EN
BEGIN:VEVENT
UID:69e97dff8258a
DTSTAMP:20260423T040343
DTSTART:20260423T083000Z
DTEND:20260423T100000Z
LOCATION:Elisabeth Therapeutikum Marburg\,  Friedrich Naumannstraße 9
SUMMARY:Mixed-Media Malkurs
DESCRIPTION: Malen am Donnerstag Vormittag mit und ohne Vorerfahrung. Anmeldung: mail@alles-kreativ.de\,  www.alles-kreativ.de
END:VEVENT
END:VCALENDAR