BEGIN:VCALENDAR
VERSION:2.0
PRODID:-//eventon.com NONSGML v1.0//EN
BEGIN:VEVENT
UID:69ebd97e17c5f
DTSTAMP:20260424T225838
DTSTART:20260424T120000Z
DTEND:20260424T120000Z
LOCATION:Lutherischer Kirchhof Marburg\,  
SUMMARY:4. Klimacamp Marburg
DESCRIPTION: Das Klimacamp bietet u.a. Kochen mit der Gemüsekombüse\,  einen Workshop zum Thema Utopien\,  einen Markt der Möglichkeiten zur Vorstellung verschiedener Marburger Klima-Initiativen\,  eine Zusammenarbeit mit AusDerReiheTanzen\,  einen Veganen Brunch und eine Vorstellung der Kollapsbewegung.
END:VEVENT
END:VCALENDAR