BEGIN:VCALENDAR
VERSION:2.0
PRODID:-//eventon.com NONSGML v1.0//EN
BEGIN:VEVENT
UID:69e58fae93665
DTSTAMP:20260420T043006
DTSTART:20260420T163000Z
DTEND:20260420T190000Z
LOCATION:Historischer Rathaussaal Marburg\,  Markt 1
SUMMARY:Podiumsdiskussion „Frieden als Diskurs“
DESCRIPTION: Im Rahmen der Vortragsreihe „Konflikte in Gegenwart und Zukunft“.
END:VEVENT
END:VCALENDAR