BEGIN:VCALENDAR
VERSION:2.0
PRODID:-//eventon.com NONSGML v1.0//EN
BEGIN:VEVENT
UID:69e81b2eb5381
DTSTAMP:20260422T024950
DTSTART:20260422T150000Z
DTEND:20260422T170000Z
LOCATION:Liesbeth&CO Marburg\,  Neue Kasseler Str. 14
SUMMARY:Sing mit! - Gemeinsames Singen
DESCRIPTION: Singen macht glücklich – vor allem gemeinsam! Du hast Lust zu singen\,  ganz ohne Notenstress oder Perfektionsdruck?
END:VEVENT
END:VCALENDAR