BEGIN:VCALENDAR
VERSION:2.0
PRODID:-//eventon.com NONSGML v1.0//EN
BEGIN:VEVENT
UID:69ebd97dd84cf
DTSTAMP:20260424T225837
DTSTART:20260424T090000Z
DTEND:20260424T103000Z
LOCATION:Treffpunkt: Brunnen am Marktplatz Marburg\,  
SUMMARY:kreuz und quer - denken in Marburg
DESCRIPTION: Bei einem gemeinsamen Spaziergang durch die Marburger Oberstadt\,  wird das Denken berühmter Persönlichkeiten der Marburger Vergangenheit (oft direkt an ihrem historischen Wohn- oder Arbeitsort) spielerisch erläutert und interpretiert…
END:VEVENT
END:VCALENDAR