BEGIN:VCALENDAR
VERSION:2.0
PRODID:-//eventon.com NONSGML v1.0//EN
BEGIN:VEVENT
UID:69e97dc529b52
DTSTAMP:20260423T040245
DTSTART:20260423T090000Z
DTEND:20260423T103000Z
LOCATION:Treffpunkt: Brunnen am Marktplatz Marburg\,  
SUMMARY:Make War\,  not Walk!
DESCRIPTION: Bei einem gemeinsamen Spaziergang durch die Marburger Oberstadt im Frühling\,  wird der innere und äußere Frieden spielerisch und beweglich in Frage gestellt…
END:VEVENT
END:VCALENDAR