BEGIN:VCALENDAR
VERSION:2.0
PRODID:-//eventon.com NONSGML v1.0//EN
BEGIN:VEVENT
UID:69e81ad6e32ad
DTSTAMP:20260422T024822
DTSTART:20260422T090000Z
DTEND:20260422T103000Z
LOCATION:Treffpunkt: Brunnen am Marktplatz Marburg\,  
SUMMARY:„Kein Kaffee für Nazis…“
DESCRIPTION: Bei einem gemeinsamen Spaziergang durch die Marburger Innenstadt\,  werden die Wände der Stadt nach Graffitis\,  Aufklebern und Kampagnen durchgesucht und deren Botschaften wahrgenommen\,  aufgenommen und interpretiert…
END:VEVENT
END:VCALENDAR