BEGIN:VCALENDAR
VERSION:2.0
PRODID:-//eventon.com NONSGML v1.0//EN
BEGIN:VEVENT
UID:69e6d09632e94
DTSTAMP:20260421T031918
DTSTART:20260421T120000Z
DTEND:20260421T133000Z
LOCATION:Treffpunkt: Brunnen am Marktplatz Marburg\,  
SUMMARY:(Ober)Stadt lesen lernen
DESCRIPTION: Bei einem gemeinsamen Spaziergang durch die Marburger Oberstadt im Frühling\,  werden Praktiken\,  Techniken und Theorien des Sehens\,  Fühlens\,  Filmens und Fotografierens erprobt…
END:VEVENT
END:VCALENDAR