BEGIN:VCALENDAR
VERSION:2.0
PRODID:-//eventon.com NONSGML v1.0//EN
BEGIN:VEVENT
UID:69e6d0df280de
DTSTAMP:20260421T032031
DTSTART:20260421T090000Z
DTEND:20260421T103000Z
LOCATION:Treffpunkt: Brunnen am Marktplatz Marburg\,  
SUMMARY:Und wo kommst du eigentlich her? -Spaziergang
DESCRIPTION: Bei einem gemeinsamen Spaziergang durch die Marburger Oberstadt im Frühling\,  werden eigene Flucht -bzw. Migrationsgeschichten einander erzählt\,  dargestellt und anvertraut…
END:VEVENT
END:VCALENDAR