BEGIN:VCALENDAR
VERSION:2.0
PRODID:-//eventon.com NONSGML v1.0//EN
BEGIN:VEVENT
UID:69e591a8bcc88
DTSTAMP:20260420T043832
DTSTART:20260420T090000Z
DTEND:20260420T103000Z
LOCATION:Treffpunkt: Brunnen am Marktplatz Marburg\,  
SUMMARY:StraßenGriechisch für Anfänger
DESCRIPTION: Bei einem gemeinsamen Spaziergang durch die winterliche Marburger Oberstadt\,  wird die griechische Sprache (für den Urlaub\,  das Studium\,  die Kommunikationslust usw.) spielerisch und philosophisch beigebracht.
END:VEVENT
END:VCALENDAR