BEGIN:VCALENDAR
VERSION:2.0
PRODID:-//eventon.com NONSGML v1.0//EN
BEGIN:VEVENT
UID:69e6cf85195ca
DTSTAMP:20260421T031445
DTSTART:20260421T170000Z
DTEND:20260421T193000Z
LOCATION:TTZ Marburg\,  Softwarecenter 3-5
SUMMARY:Podiumsdiskussion „AfD-Verbot oder Untergang? – Mit Konservativen im Gespräch“
DESCRIPTION: Angesichts aktueller politischer Entwicklungen lädt die Initiative Demokratische Zukunft Marburg (IDZMR) zu einer hochkarätig besetzten Podiumsdiskussion unter dem Titel ein. Mit Michel Friedman\,  Jens Seipp\,  Thomas Spies\,  Bijan Moini.
END:VEVENT
END:VCALENDAR