BEGIN:VCALENDAR
VERSION:2.0
PRODID:-//eventon.com NONSGML v1.0//EN
BEGIN:VEVENT
UID:69e81baad4966
DTSTAMP:20260422T025154
DTSTART:20260422T133000Z
DTEND:20260422T144500Z
LOCATION:Stadtbücherei Marburg\,  Ketzerbach 1
SUMMARY:Der Wolf und die sieben jungen Geißlein
DESCRIPTION: Als Auftaktveranstaltung im Rahmen des Marburger Lesefestes startet die kleine Veranstaltungsreihe „Märchenhafter Sommer in der Stadtbücherei Marburg“. Der Musiker und Sprecher Matthias Keller ist mit dem Grimm‘schen Märchen zu Gast.
END:VEVENT
END:VCALENDAR