BEGIN:VCALENDAR
VERSION:2.0
PRODID:-//eventon.com NONSGML v1.0//EN
BEGIN:VEVENT
UID:69ecb9b606d32
DTSTAMP:20260425T145518
DTSTART:20260425T090000Z
DTEND:20260425T110000Z
LOCATION:Christa-Czempiel Platz Marburg\,  Richtsberg
SUMMARY:Aktionstag mit dem Bewegungsbus
DESCRIPTION: Der Bewegungsbus kommt in den Stadtteil. Sport- und Bewegungs-Materialien können kostenlos und ohne Voranmeldung genutzt werden.
END:VEVENT
END:VCALENDAR