BEGIN:VCALENDAR
VERSION:2.0
PRODID:-//eventon.com NONSGML v1.0//EN
BEGIN:VEVENT
UID:69ecb939c65fb
DTSTAMP:20260425T145313
DTSTART:20260425T100000Z
DTEND:20260425T150000Z
LOCATION:Die leerstehende Hofreite Heidehof Cölbe-Schönstadt\,  Teichweg 8
SUMMARY:Tag der offenen Tür: Projektinitiative für Mehrgenerationen-Wohnprojekt
DESCRIPTION: Die Initiativgruppe Mehrgenerationen-Wohnprojekt Heidehof lädt ein zum Tag der offenen Tür mit Hofführungen\,  Projektvorstellung\,  Kennenlernen.
END:VEVENT
END:VCALENDAR