BEGIN:VCALENDAR
VERSION:2.0
PRODID:-//eventon.com NONSGML v1.0//EN
BEGIN:VEVENT
UID:69ebd8fe6c66f
DTSTAMP:20260424T225630
DTSTART:20260424T110000Z
DTEND:20260424T110000Z
LOCATION:Marktplatz Am Markt 35037 Marburg
SUMMARY:Klimademo
DESCRIPTION: Ministerin Reiche stoppen – die Energiewende retten. Aktionstag gegen die klimafeindliche Politik der Wirtschaftsministerin!
END:VEVENT
END:VCALENDAR