BEGIN:VCALENDAR
VERSION:2.0
PRODID:-//eventon.com NONSGML v1.0//EN
BEGIN:VEVENT
UID:69e982d4c0830
DTSTAMP:20260423T042420
DTSTART:20260422T153000Z
DTEND:20260422T160000Z
LOCATION:Lahnwiesen\,  Höhe Affenfelsen Marburg\,  
SUMMARY:Offene Bewegungsangebote: Herz-Kreislauf-Training
DESCRIPTION: Wer seine Fitness\,  die Herzgesundheit\,  die Lungentätigkeit und das gesamte Kreislaufsystem verbessern und stärken möchte\,  ist bei diesem Angebot genau richtig. Die Teilnahme ist kostenlos und ohne Anmeldung möglich.
END:VEVENT
END:VCALENDAR